BEGIN:VCALENDAR
VERSION:2.0
CALSCALE:GREGORIAN
PRODID:-//WordPress//RSVPMaker//EN
METHOD:REQUEST
BEGIN:VEVENT
DTSTAMP:20260423T234631Z
UID:C3C617A9B80B3AE1EBD868B0017CC349@rsvpmaker.com
SEQUENCE:0
STATUS:CONFIRMED
DTSTART:20260309T160000Z
DTEND:20260309T170000Z
LOCATION:See\: https\://www.uupsbu.org/rsvpmaker/executive-board-meeti
 ng-56/
SUMMARY:Executive Board Meeting
DESCRIPTION:Event info\: https\://www.uupsbu.org/rsvpmaker/executive-b
 oard-meeting-56/
END:VEVENT
END:VCALENDAR