BEGIN:VCALENDAR
VERSION:2.0
CALSCALE:GREGORIAN
PRODID:-//WordPress//RSVPMaker//EN
METHOD:REQUEST
BEGIN:VEVENT
DTSTAMP:20260423T232617Z
UID:316282DDB77E11B0B58C60ED59B1E308@rsvpmaker.com
SEQUENCE:0
STATUS:CONFIRMED
DTSTART:20260415T160000Z
DTEND:20260415T170000Z
LOCATION:See\: https\://www.uupsbu.org/rsvpmaker/executive-board-meeti
 ng-57/
SUMMARY:Executive Board Meeting
DESCRIPTION:Event info\: https\://www.uupsbu.org/rsvpmaker/executive-b
 oard-meeting-57/
END:VEVENT
END:VCALENDAR