BEGIN:VCALENDAR
VERSION:2.0
CALSCALE:GREGORIAN
PRODID:-//WordPress//RSVPMaker//EN
METHOD:REQUEST
BEGIN:VEVENT
DTSTAMP:20260424T082418Z
UID:6FC3F254B4F9C09C037E3EE7B40F5309@rsvpmaker.com
SEQUENCE:0
STATUS:CONFIRMED
DTSTART:20261110T170000Z
DTEND:20261110T180000Z
LOCATION:See\: https\://www.uupsbu.org/rsvpmaker/executive-board-meeti
 ng-62/
SUMMARY:Executive Board Meeting
DESCRIPTION:Event info\: https\://www.uupsbu.org/rsvpmaker/executive-b
 oard-meeting-62/
END:VEVENT
END:VCALENDAR