BEGIN:VCALENDAR
VERSION:2.0
CALSCALE:GREGORIAN
PRODID:-//WordPress//RSVPMaker//EN
METHOD:REQUEST
BEGIN:VEVENT
DTSTAMP:20260423T234631Z
UID:52D080A3E172C33FD6886A37E7288491@rsvpmaker.com
SEQUENCE:0
STATUS:CONFIRMED
DTSTART:20180327T120000Z
DTEND:20180327T130000Z
LOCATION:See\: https\://www.uupsbu.org/rsvpmaker/fair-contract-action-
 2018-03-27/
SUMMARY:Fair Contract Action
DESCRIPTION:Event info\: https\://www.uupsbu.org/rsvpmaker/fair-contra
 ct-action-2018-03-27/
END:VEVENT
END:VCALENDAR