BEGIN:VCALENDAR
VERSION:2.0
CALSCALE:GREGORIAN
PRODID:-//WordPress//RSVPMaker//EN
METHOD:REQUEST
BEGIN:VEVENT
DTSTAMP:20260425T022356Z
UID:766EBCD59621E305170616BA3D3DAC32@rsvpmaker.com
SEQUENCE:0
STATUS:CONFIRMED
DTSTART:20160930T160000Z
DTEND:20160930T170000Z
LOCATION:See\: https\://www.uupsbu.org/rsvpmaker/fall-delegate-assembl
 y-2016-9-30/
SUMMARY:Fall Delegate Assembly
DESCRIPTION:Event info\: https\://www.uupsbu.org/rsvpmaker/fall-delega
 te-assembly-2016-9-30/
END:VEVENT
END:VCALENDAR