BEGIN:VCALENDAR
VERSION:2.0
CALSCALE:GREGORIAN
PRODID:-//WordPress//RSVPMaker//EN
METHOD:REQUEST
BEGIN:VEVENT
DTSTAMP:20260424T064755Z
UID:D707329BECE455A462B58CE00D1194C9@rsvpmaker.com
SEQUENCE:0
STATUS:CONFIRMED
DTSTART:20171024T160000Z
DTEND:20171024T170000Z
LOCATION:See\: https\://www.uupsbu.org/rsvpmaker/family-medical-leave-
 act-2017-10-24/
SUMMARY:Family Medical Leave Act
DESCRIPTION:Event info\: https\://www.uupsbu.org/rsvpmaker/family-medi
 cal-leave-act-2017-10-24/
END:VEVENT
END:VCALENDAR