BEGIN:VCALENDAR
VERSION:2.0
CALSCALE:GREGORIAN
PRODID:-//WordPress//RSVPMaker//EN
METHOD:REQUEST
BEGIN:VEVENT
DTSTAMP:20260425T205621Z
UID:B5D62AA6024AB6A65A12C78C4C2D4EFC@rsvpmaker.com
SEQUENCE:0
STATUS:CONFIRMED
DTSTART:20231120T170000Z
DTEND:20231120T180000Z
LOCATION:See\: https\://www.uupsbu.org/rsvpmaker/feast-your-eyes-on-uu
 ps-negotiated-benefits-webinar/
SUMMARY:Feast your eyes on UUP’s Negotiated Benefits Webinar
DESCRIPTION:Event info\: https\://www.uupsbu.org/rsvpmaker/feast-your-
 eyes-on-uups-negotiated-benefits-webinar/
END:VEVENT
END:VCALENDAR