BEGIN:VCALENDAR
VERSION:2.0
CALSCALE:GREGORIAN
PRODID:-//WordPress//RSVPMaker//EN
METHOD:REQUEST
BEGIN:VEVENT
DTSTAMP:20260425T141447Z
UID:53253027FEF2AB5162A602F2ACFED431@rsvpmaker.com
SEQUENCE:0
STATUS:CONFIRMED
DTSTART:20240216T000000Z
DTEND:20240216T010000Z
LOCATION:See\: https\://www.uupsbu.org/rsvpmaker/february-2024-pre-ret
 irement-workshops-2/
SUMMARY:February 2024 Pre- Retirement Workshops
DESCRIPTION:Event info\: https\://www.uupsbu.org/rsvpmaker/february-20
 24-pre-retirement-workshops-2/
END:VEVENT
END:VCALENDAR