BEGIN:VCALENDAR
VERSION:2.0
CALSCALE:GREGORIAN
PRODID:-//WordPress//RSVPMaker//EN
METHOD:REQUEST
BEGIN:VEVENT
DTSTAMP:20260425T141600Z
UID:320E4DF890A1A620573DB8170F39A093@rsvpmaker.com
SEQUENCE:0
STATUS:CONFIRMED
DTSTART:20240214T000000Z
DTEND:20240214T010000Z
LOCATION:See\: https\://www.uupsbu.org/rsvpmaker/february-2024-pre-ret
 irement-workshops/
SUMMARY:February 2024 Pre- Retirement Workshops
DESCRIPTION:Event info\: https\://www.uupsbu.org/rsvpmaker/february-20
 24-pre-retirement-workshops/
END:VEVENT
END:VCALENDAR