BEGIN:VCALENDAR
VERSION:2.0
CALSCALE:GREGORIAN
PRODID:-//WordPress//RSVPMaker//EN
METHOD:REQUEST
BEGIN:VEVENT
DTSTAMP:20260425T204955Z
UID:11F38F8ECD71867B42433548D1078E38@rsvpmaker.com
SEQUENCE:0
STATUS:CONFIRMED
DTSTART:20231031T160000Z
DTEND:20231031T170000Z
LOCATION:See\: https\://www.uupsbu.org/rsvpmaker/forums-for-problem-so
 lving-workshop-zoom-only/
SUMMARY:Forums for Problem Solving Workshop (zoom only)
DESCRIPTION:Event info\: https\://www.uupsbu.org/rsvpmaker/forums-for-
 problem-solving-workshop-zoom-only/
END:VEVENT
END:VCALENDAR