BEGIN:VCALENDAR
VERSION:2.0
CALSCALE:GREGORIAN
PRODID:-//WordPress//RSVPMaker//EN
METHOD:REQUEST
BEGIN:VEVENT
DTSTAMP:20260425T185032Z
UID:A666587AFDA6E89AEC274A3657558A27@rsvpmaker.com
SEQUENCE:0
STATUS:CONFIRMED
DTSTART:20151118T170000Z
DTEND:20151118T180000Z
LOCATION:See\: https\://www.uupsbu.org/rsvpmaker/front-page-discussion
 -2015-11-18/
SUMMARY:Front Page Discussion
DESCRIPTION:Event info\: https\://www.uupsbu.org/rsvpmaker/front-page-
 discussion-2015-11-18/
END:VEVENT
END:VCALENDAR