BEGIN:VCALENDAR
VERSION:2.0
CALSCALE:GREGORIAN
PRODID:-//WordPress//RSVPMaker//EN
METHOD:REQUEST
BEGIN:VEVENT
DTSTAMP:20260425T104520Z
UID:428FCA9BC1921C25C5121F9DA7815CDE@rsvpmaker.com
SEQUENCE:0
STATUS:CONFIRMED
DTSTART:20160407T160000Z
DTEND:20160407T170000Z
LOCATION:See\: https\://www.uupsbu.org/rsvpmaker/front-page-discussion
 -2016-4-7/
SUMMARY:Front Page Discussion
DESCRIPTION:Event info\: https\://www.uupsbu.org/rsvpmaker/front-page-
 discussion-2016-4-7/
END:VEVENT
END:VCALENDAR