BEGIN:VCALENDAR
VERSION:2.0
CALSCALE:GREGORIAN
PRODID:-//WordPress//RSVPMaker//EN
METHOD:REQUEST
BEGIN:VEVENT
DTSTAMP:20260424T051239Z
UID:7B13B2203029ED80337F27127A9F1D28@rsvpmaker.com
SEQUENCE:0
STATUS:CONFIRMED
DTSTART:20171107T170000Z
DTEND:20171107T180000Z
LOCATION:See\: https\://www.uupsbu.org/rsvpmaker/general-election-day-
 2017-11-07/
SUMMARY:General Election Day
DESCRIPTION:Event info\: https\://www.uupsbu.org/rsvpmaker/general-ele
 ction-day-2017-11-07/
END:VEVENT
END:VCALENDAR