BEGIN:VCALENDAR
VERSION:2.0
CALSCALE:GREGORIAN
PRODID:-//WordPress//RSVPMaker//EN
METHOD:REQUEST
BEGIN:VEVENT
DTSTAMP:20260424T215251Z
UID:FCBFAB2F4CDA26061ED9E3EE96A4FD61@rsvpmaker.com
SEQUENCE:0
STATUS:CONFIRMED
DTSTART:20241203T150000Z
DTEND:20241203T160000Z
LOCATION:See\: https\://www.uupsbu.org/rsvpmaker/general-membership-2/
SUMMARY:General Membership
DESCRIPTION:Event info\: https\://www.uupsbu.org/rsvpmaker/general-mem
 bership-2/
END:VEVENT
END:VCALENDAR