BEGIN:VCALENDAR
VERSION:2.0
CALSCALE:GREGORIAN
PRODID:-//WordPress//RSVPMaker//EN
METHOD:REQUEST
BEGIN:VEVENT
DTSTAMP:20260425T121438Z
UID:3CF166C6B73F030B4F67EEAEBA301103@rsvpmaker.com
SEQUENCE:0
STATUS:CONFIRMED
DTSTART:20160308T170000Z
DTEND:20160308T180000Z
LOCATION:See\: https\://www.uupsbu.org/rsvpmaker/general-membership-me
 eting-2016-3-8/
SUMMARY:General Membership Meeting
DESCRIPTION:Event info\: https\://www.uupsbu.org/rsvpmaker/general-mem
 bership-meeting-2016-3-8/
END:VEVENT
END:VCALENDAR