BEGIN:VCALENDAR
VERSION:2.0
CALSCALE:GREGORIAN
PRODID:-//WordPress//RSVPMaker//EN
METHOD:REQUEST
BEGIN:VEVENT
DTSTAMP:20260424T064129Z
UID:A4300B002BCFB71F291DAC175D52DF94@rsvpmaker.com
SEQUENCE:0
STATUS:CONFIRMED
DTSTART:20171026T160000Z
DTEND:20171026T170000Z
LOCATION:See\: https\://www.uupsbu.org/rsvpmaker/general-membership-me
 eting-2017-10-26/
SUMMARY:General Membership Meeting
DESCRIPTION:Event info\: https\://www.uupsbu.org/rsvpmaker/general-mem
 bership-meeting-2017-10-26/
END:VEVENT
END:VCALENDAR