BEGIN:VCALENDAR
VERSION:2.0
CALSCALE:GREGORIAN
PRODID:-//WordPress//RSVPMaker//EN
METHOD:REQUEST
BEGIN:VEVENT
DTSTAMP:20260423T150231Z
UID:B56A18E0EACDF51AA2A5306B0F533204@rsvpmaker.com
SEQUENCE:0
STATUS:CONFIRMED
DTSTART:20180405T160000Z
DTEND:20180405T170000Z
LOCATION:See\: https\://www.uupsbu.org/rsvpmaker/general-membership-me
 eting-2018-04-05/
SUMMARY:General Membership Meeting
DESCRIPTION:Event info\: https\://www.uupsbu.org/rsvpmaker/general-mem
 bership-meeting-2018-04-05/
END:VEVENT
END:VCALENDAR