BEGIN:VCALENDAR
VERSION:2.0
CALSCALE:GREGORIAN
PRODID:-//WordPress//RSVPMaker//EN
METHOD:REQUEST
BEGIN:VEVENT
DTSTAMP:20260423T202116Z
UID:AF9C0E0C1DEE63E5ACAD8B7ED1A5BE96@rsvpmaker.com
SEQUENCE:0
STATUS:CONFIRMED
DTSTART:20251106T170000Z
DTEND:20251106T180000Z
LOCATION:See\: https\://www.uupsbu.org/rsvpmaker/general-membership-me
 eting-4/
SUMMARY:General Membership meeting
DESCRIPTION:Event info\: https\://www.uupsbu.org/rsvpmaker/general-mem
 bership-meeting-4/
END:VEVENT
END:VCALENDAR