BEGIN:VCALENDAR
VERSION:2.0
CALSCALE:GREGORIAN
PRODID:-//WordPress//RSVPMaker//EN
METHOD:REQUEST
BEGIN:VEVENT
DTSTAMP:20260423T234759Z
UID:37CA649D980EAA5564A620F959F12D88@rsvpmaker.com
SEQUENCE:0
STATUS:CONFIRMED
DTSTART:20260304T170000Z
DTEND:20260304T183000Z
LOCATION:See\: https\://www.uupsbu.org/rsvpmaker/general-membership-me
 eting-5/
SUMMARY:General Membership meeting
DESCRIPTION:Event info\: https\://www.uupsbu.org/rsvpmaker/general-mem
 bership-meeting-5/
END:VEVENT
END:VCALENDAR