BEGIN:VCALENDAR
VERSION:2.0
CALSCALE:GREGORIAN
PRODID:-//WordPress//RSVPMaker//EN
METHOD:REQUEST
BEGIN:VEVENT
DTSTAMP:20260425T010529Z
UID:F69543A0F1B1C844DBD3EEEE30EA0404@rsvpmaker.com
SEQUENCE:0
STATUS:CONFIRMED
DTSTART:20241022T160000Z
DTEND:20241022T170000Z
LOCATION:See\: https\://www.uupsbu.org/rsvpmaker/general-membership/
SUMMARY:General Membership
DESCRIPTION:Event info\: https\://www.uupsbu.org/rsvpmaker/general-mem
 bership/
END:VEVENT
END:VCALENDAR