BEGIN:VCALENDAR
VERSION:2.0
CALSCALE:GREGORIAN
PRODID:-//WordPress//RSVPMaker//EN
METHOD:REQUEST
BEGIN:VEVENT
DTSTAMP:20260425T140752Z
UID:8207F8D79C224F5FEEF34FE2C2D6ADFE@rsvpmaker.com
SEQUENCE:0
STATUS:CONFIRMED
DTSTART:20240307T180000Z
DTEND:20240307T190000Z
LOCATION:See\: https\://www.uupsbu.org/rsvpmaker/getting-to-tenure-wor
 kshop-zoom/
SUMMARY:Getting to Tenure Workshop (zoom)
DESCRIPTION:Event info\: https\://www.uupsbu.org/rsvpmaker/getting-to-
 tenure-workshop-zoom/
END:VEVENT
END:VCALENDAR