BEGIN:VCALENDAR
VERSION:2.0
CALSCALE:GREGORIAN
PRODID:-//WordPress//RSVPMaker//EN
METHOD:REQUEST
BEGIN:VEVENT
DTSTAMP:20260425T222335Z
UID:F51DC802382CE2B548BF73FF0726A31D@rsvpmaker.com
SEQUENCE:0
STATUS:CONFIRMED
DTSTART:20231017T170000Z
DTEND:20231017T180000Z
LOCATION:See\: https\://www.uupsbu.org/rsvpmaker/getting-to-tenure-wor
 kshop/
SUMMARY:Getting to Tenure Workshop (zoom only)
DESCRIPTION:Event info\: https\://www.uupsbu.org/rsvpmaker/getting-to-
 tenure-workshop/
END:VEVENT
END:VCALENDAR