BEGIN:VCALENDAR
VERSION:2.0
CALSCALE:GREGORIAN
PRODID:-//WordPress//RSVPMaker//EN
METHOD:REQUEST
BEGIN:VEVENT
DTSTAMP:20260425T222507Z
UID:320755112B6D9E248CE1C26E1FCF534B@rsvpmaker.com
SEQUENCE:0
STATUS:CONFIRMED
DTSTART:20231012T170000Z
DTEND:20231012T180000Z
LOCATION:See\: https\://www.uupsbu.org/rsvpmaker/grievance-workplace-c
 oncerns/
SUMMARY:Forums for Problem Solving Workshop (zoom only)
DESCRIPTION:Event info\: https\://www.uupsbu.org/rsvpmaker/grievance-w
 orkplace-concerns/
END:VEVENT
END:VCALENDAR