BEGIN:VCALENDAR
VERSION:2.0
CALSCALE:GREGORIAN
PRODID:-//WordPress//RSVPMaker//EN
METHOD:REQUEST
BEGIN:VEVENT
DTSTAMP:20260424T022015Z
UID:229754D7799160502A143A72F6789927@rsvpmaker.com
SEQUENCE:0
STATUS:CONFIRMED
DTSTART:20180903T160000Z
DTEND:20180903T170000Z
LOCATION:See\: https\://www.uupsbu.org/rsvpmaker/happy-labor-day-2018-
 09-03/
SUMMARY:Happy Labor Day
DESCRIPTION:Event info\: https\://www.uupsbu.org/rsvpmaker/happy-labor
 -day-2018-09-03/
END:VEVENT
END:VCALENDAR