BEGIN:VCALENDAR
VERSION:2.0
CALSCALE:GREGORIAN
PRODID:-//WordPress//RSVPMaker//EN
METHOD:REQUEST
BEGIN:VEVENT
DTSTAMP:20260424T063700Z
UID:2BCAB9D935D219641434683DD9D18A03@rsvpmaker.com
SEQUENCE:0
STATUS:CONFIRMED
DTSTART:20171123T170000Z
DTEND:20171123T180000Z
LOCATION:See\: https\://www.uupsbu.org/rsvpmaker/happy-thanksgiving-da
 y-2017-11-23/
SUMMARY:Happy Thanksgiving Day
DESCRIPTION:Event info\: https\://www.uupsbu.org/rsvpmaker/happy-thank
 sgiving-day-2017-11-23/
END:VEVENT
END:VCALENDAR