BEGIN:VCALENDAR
VERSION:2.0
CALSCALE:GREGORIAN
PRODID:-//WordPress//RSVPMaker//EN
METHOD:REQUEST
BEGIN:VEVENT
DTSTAMP:20260424T051527Z
UID:9908279EBBF1F9B250BA689DB6A0222B@rsvpmaker.com
SEQUENCE:0
STATUS:CONFIRMED
DTSTART:20171116T170000Z
DTEND:20171116T180000Z
LOCATION:See\: https\://www.uupsbu.org/rsvpmaker/health-and-safety-pre
 sents-a-fire-safety-workshop-2017-11-16/
SUMMARY:Health and Safety presents a Fire & Safety Workshop
DESCRIPTION:Event info\: https\://www.uupsbu.org/rsvpmaker/health-and-
 safety-presents-a-fire-safety-workshop-2017-11-16/
END:VEVENT
END:VCALENDAR