BEGIN:VCALENDAR
VERSION:2.0
CALSCALE:GREGORIAN
PRODID:-//WordPress//RSVPMaker//EN
METHOD:REQUEST
BEGIN:VEVENT
DTSTAMP:20260425T205621Z
UID:94841421FB5E84A4D83E303949E6B211@rsvpmaker.com
SEQUENCE:0
STATUS:CONFIRMED
DTSTART:20231003T160000Z
DTEND:20231003T170000Z
LOCATION:See\: https\://www.uupsbu.org/rsvpmaker/health-and-safety-sem
 inar-self-defense/
SUMMARY:Health and Safety Seminar: Self Defense
DESCRIPTION:Event info\: https\://www.uupsbu.org/rsvpmaker/health-and-
 safety-seminar-self-defense/
END:VEVENT
END:VCALENDAR