BEGIN:VCALENDAR
VERSION:2.0
CALSCALE:GREGORIAN
PRODID:-//WordPress//RSVPMaker//EN
METHOD:REQUEST
BEGIN:VEVENT
DTSTAMP:20260424T171431Z
UID:2823F4797102CE1A1AEC05359CC16DD9@rsvpmaker.com
SEQUENCE:0
STATUS:CONFIRMED
DTSTART:20170324T160000Z
DTEND:20170324T170000Z
LOCATION:See\: https\://www.uupsbu.org/rsvpmaker/health-safety-committ
 ee-presents-be-secure-online-protecting-your-identity-workplace-family
 -2017-03-24/
SUMMARY:Health & Safety Committee presents: Be Secure Online! Protecti
 ng your Identity. Workplace & Family
DESCRIPTION:Event info\: https\://www.uupsbu.org/rsvpmaker/health-safe
 ty-committee-presents-be-secure-online-protecting-your-identity-workpl
 ace-family-2017-03-24/
END:VEVENT
END:VCALENDAR