BEGIN:VCALENDAR
VERSION:2.0
CALSCALE:GREGORIAN
PRODID:-//WordPress//RSVPMaker//EN
METHOD:REQUEST
BEGIN:VEVENT
DTSTAMP:20260424T112624Z
UID:2B64C2F19D868305AA8BBC2D72902CC5@rsvpmaker.com
SEQUENCE:0
STATUS:CONFIRMED
DTSTART:20190326T160000Z
DTEND:20190326T170000Z
LOCATION:See\: https\://www.uupsbu.org/rsvpmaker/health-safety-committ
 ee-workshop-cybersecurity-essentials/
SUMMARY:Health & Safety Committee Workshop "Cybersecurity Essentials"
DESCRIPTION:Event info\: https\://www.uupsbu.org/rsvpmaker/health-safe
 ty-committee-workshop-cybersecurity-essentials/
END:VEVENT
END:VCALENDAR