BEGIN:VCALENDAR
VERSION:2.0
CALSCALE:GREGORIAN
PRODID:-//WordPress//RSVPMaker//EN
METHOD:REQUEST
BEGIN:VEVENT
DTSTAMP:20260424T171711Z
UID:0537FB40A68C18DA59A35C2BFE1CA554@rsvpmaker.com
SEQUENCE:0
STATUS:CONFIRMED
DTSTART:20170322T160000Z
DTEND:20170322T170000Z
LOCATION:See\: https\://www.uupsbu.org/rsvpmaker/health-safety-program
 -stress-reduction-wellness-2017-03-22/
SUMMARY:Health & Safety Program: Stress Reduction & Wellness
DESCRIPTION:Event info\: https\://www.uupsbu.org/rsvpmaker/health-safe
 ty-program-stress-reduction-wellness-2017-03-22/
END:VEVENT
END:VCALENDAR