BEGIN:VCALENDAR
VERSION:2.0
CALSCALE:GREGORIAN
PRODID:-//WordPress//RSVPMaker//EN
METHOD:REQUEST
BEGIN:VEVENT
DTSTAMP:20260425T135050Z
UID:EF575E8837D065A1683C022D2077D342@rsvpmaker.com
SEQUENCE:0
STATUS:CONFIRMED
DTSTART:20160217T170000Z
DTEND:20160217T180000Z
LOCATION:See\: https\://www.uupsbu.org/rsvpmaker/health-safety-worksho
 p/
SUMMARY:Health & Safety Workshop
DESCRIPTION:Event info\: https\://www.uupsbu.org/rsvpmaker/health-safe
 ty-workshop/
END:VEVENT
END:VCALENDAR