BEGIN:VCALENDAR
VERSION:2.0
CALSCALE:GREGORIAN
PRODID:-//WordPress//RSVPMaker//EN
METHOD:REQUEST
BEGIN:VEVENT
DTSTAMP:20260424T214855Z
UID:DBE272BAB69F8E13F14B405E038DEB64@rsvpmaker.com
SEQUENCE:0
STATUS:CONFIRMED
DTSTART:20161208T131500Z
DTEND:20161208T141500Z
LOCATION:See\: https\://www.uupsbu.org/rsvpmaker/holiday-breakfast-mem
 bership-meeting-2016-12-08/
SUMMARY:Holiday Breakfast - Membership Meeting
DESCRIPTION:Event info\: https\://www.uupsbu.org/rsvpmaker/holiday-bre
 akfast-membership-meeting-2016-12-08/
END:VEVENT
END:VCALENDAR