BEGIN:VCALENDAR
VERSION:2.0
CALSCALE:GREGORIAN
PRODID:-//WordPress//RSVPMaker//EN
METHOD:REQUEST
BEGIN:VEVENT
DTSTAMP:20260425T121539Z
UID:68CE199EC2C5517597CE0A4D89620F55@rsvpmaker.com
SEQUENCE:0
STATUS:CONFIRMED
DTSTART:20160301T170000Z
DTEND:20160301T180000Z
LOCATION:See\: https\://www.uupsbu.org/rsvpmaker/hsc-advocacy-day-2016
 -3-1/
SUMMARY:HSC Advocacy Day
DESCRIPTION:Event info\: https\://www.uupsbu.org/rsvpmaker/hsc-advocac
 y-day-2016-3-1/
END:VEVENT
END:VCALENDAR