BEGIN:VCALENDAR
VERSION:2.0
CALSCALE:GREGORIAN
PRODID:-//WordPress//RSVPMaker//EN
METHOD:REQUEST
BEGIN:VEVENT
DTSTAMP:20260423T232850Z
UID:CE65F40E3A20AD19FE352C52CE3BCF51@rsvpmaker.com
SEQUENCE:0
STATUS:CONFIRMED
DTSTART:20260527T170000Z
DTEND:20260527T190000Z
LOCATION:See\: https\://www.uupsbu.org/rsvpmaker/ice-cream-social-2/
SUMMARY:Ice Cream Social
DESCRIPTION:Event info\: https\://www.uupsbu.org/rsvpmaker/ice-cream-s
 ocial-2/
END:VEVENT
END:VCALENDAR