BEGIN:VCALENDAR
VERSION:2.0
CALSCALE:GREGORIAN
PRODID:-//WordPress//RSVPMaker//EN
METHOD:REQUEST
BEGIN:VEVENT
DTSTAMP:20260424T080005Z
UID:80C60E6CCCA996995B273E51B04D6B9C@rsvpmaker.com
SEQUENCE:0
STATUS:CONFIRMED
DTSTART:20250916T160000Z
DTEND:20250916T170000Z
LOCATION:See\: https\://www.uupsbu.org/rsvpmaker/ida-workshop-2/
SUMMARY:IDA Workshop for Professionals
DESCRIPTION:Event info\: https\://www.uupsbu.org/rsvpmaker/ida-worksho
 p-2/
END:VEVENT
END:VCALENDAR