BEGIN:VCALENDAR
VERSION:2.0
CALSCALE:GREGORIAN
PRODID:-//WordPress//RSVPMaker//EN
METHOD:REQUEST
BEGIN:VEVENT
DTSTAMP:20260424T105739Z
UID:F29C21D4897F78948B91F03172341B7B@rsvpmaker.com
SEQUENCE:0
STATUS:CONFIRMED
DTSTART:20170704T160000Z
DTEND:20170704T170000Z
LOCATION:See\: https\://www.uupsbu.org/rsvpmaker/independence-day-2017
 -7-4/
SUMMARY:Independence Day
DESCRIPTION:Event info\: https\://www.uupsbu.org/rsvpmaker/independenc
 e-day-2017-7-4/
END:VEVENT
END:VCALENDAR