BEGIN:VCALENDAR
VERSION:2.0
CALSCALE:GREGORIAN
PRODID:-//WordPress//RSVPMaker//EN
METHOD:REQUEST
BEGIN:VEVENT
DTSTAMP:20260426T012704Z
UID:0CE98F53E3AA229AA2F31B16E5DCBB4B@rsvpmaker.com
SEQUENCE:0
STATUS:CONFIRMED
DTSTART:20230704T040000Z
DTEND:20230704T050000Z
LOCATION:See\: https\://www.uupsbu.org/rsvpmaker/independence-day/
SUMMARY:Independence Day
DESCRIPTION:Event info\: https\://www.uupsbu.org/rsvpmaker/independenc
 e-day/
END:VEVENT
END:VCALENDAR