BEGIN:VCALENDAR
VERSION:2.0
CALSCALE:GREGORIAN
PRODID:-//WordPress//RSVPMaker//EN
METHOD:REQUEST
BEGIN:VEVENT
DTSTAMP:20260425T191955Z
UID:7FC346397DC202259F27EDC7D2ADEC88@rsvpmaker.com
SEQUENCE:0
STATUS:CONFIRMED
DTSTART:20231116T170000Z
DTEND:20231116T180000Z
LOCATION:See\: https\://www.uupsbu.org/rsvpmaker/insurchoice-new-membe
 ronly-benefits-info-launch-zoom-only/
SUMMARY:InsurChoice New MemberOnly Benefits Info Launch (zoom only)
DESCRIPTION:Event info\: https\://www.uupsbu.org/rsvpmaker/insurchoice
 -new-memberonly-benefits-info-launch-zoom-only/
END:VEVENT
END:VCALENDAR