BEGIN:VCALENDAR
VERSION:2.0
CALSCALE:GREGORIAN
PRODID:-//WordPress//RSVPMaker//EN
METHOD:REQUEST
BEGIN:VEVENT
DTSTAMP:20260425T134504Z
UID:941E1AAABA585B952B62C14A3A175A61@rsvpmaker.com
SEQUENCE:0
STATUS:CONFIRMED
DTSTART:20160208T170000Z
DTEND:20160208T180000Z
LOCATION:See\: https\://www.uupsbu.org/rsvpmaker/joint-uup-chapter-exe
 cutive-board-meeting-2016-2-8/
SUMMARY:Joint UUP Chapter Executive Board Meeting
DESCRIPTION:Event info\: https\://www.uupsbu.org/rsvpmaker/joint-uup-c
 hapter-executive-board-meeting-2016-2-8/
END:VEVENT
END:VCALENDAR