BEGIN:VCALENDAR
VERSION:2.0
CALSCALE:GREGORIAN
PRODID:-//WordPress//RSVPMaker//EN
METHOD:REQUEST
BEGIN:VEVENT
DTSTAMP:20260426T013506Z
UID:676B58765AD419A5B7AF6A959D4DE341@rsvpmaker.com
SEQUENCE:0
STATUS:CONFIRMED
DTSTART:20230713T160000Z
DTEND:20230713T170000Z
LOCATION:See\: https\://www.uupsbu.org/rsvpmaker/july-13-2023-executiv
 e-board-meeting/
SUMMARY:July 13, 2023 Executive Board Meeting
DESCRIPTION:Event info\: https\://www.uupsbu.org/rsvpmaker/july-13-202
 3-executive-board-meeting/
END:VEVENT
END:VCALENDAR