BEGIN:VCALENDAR
VERSION:2.0
CALSCALE:GREGORIAN
PRODID:-//WordPress//RSVPMaker//EN
METHOD:REQUEST
BEGIN:VEVENT
DTSTAMP:20260426T042723Z
UID:20F79A5FA90C0796D2CFDBE8763DFB67@rsvpmaker.com
SEQUENCE:0
STATUS:CONFIRMED
DTSTART:20230619T040000Z
DTEND:20230619T050000Z
LOCATION:See\: https\://www.uupsbu.org/rsvpmaker/juneteenth/
SUMMARY:Juneteenth
DESCRIPTION:Event info\: https\://www.uupsbu.org/rsvpmaker/juneteenth/
END:VEVENT
END:VCALENDAR