BEGIN:VCALENDAR
VERSION:2.0
CALSCALE:GREGORIAN
PRODID:-//WordPress//RSVPMaker//EN
METHOD:REQUEST
BEGIN:VEVENT
DTSTAMP:20260424T021928Z
UID:0A3DF70393993583A13C0DD6686F3F32@rsvpmaker.com
SEQUENCE:0
STATUS:CONFIRMED
DTSTART:20260115T170000Z
DTEND:20260115T180000Z
LOCATION:See\: https\://www.uupsbu.org/rsvpmaker/know-your-rights-empl
 oyment-security/
SUMMARY:Know Your Rights - Employment Security
DESCRIPTION:Event info\: https\://www.uupsbu.org/rsvpmaker/know-your-r
 ights-employment-security/
END:VEVENT
END:VCALENDAR