BEGIN:VCALENDAR
VERSION:2.0
CALSCALE:GREGORIAN
PRODID:-//WordPress//RSVPMaker//EN
METHOD:REQUEST
BEGIN:VEVENT
DTSTAMP:20260424T051356Z
UID:B73BADE959E6BECEB6678ACBBBB5BE57@rsvpmaker.com
SEQUENCE:0
STATUS:CONFIRMED
DTSTART:20251118T170000Z
DTEND:20251118T180000Z
LOCATION:See\: https\://www.uupsbu.org/rsvpmaker/know-your-rights-gett
 ing-to-tenure/
SUMMARY:Know Your Rights - Getting to Tenure
DESCRIPTION:Event info\: https\://www.uupsbu.org/rsvpmaker/know-your-r
 ights-getting-to-tenure/
END:VEVENT
END:VCALENDAR