BEGIN:VCALENDAR
VERSION:2.0
CALSCALE:GREGORIAN
PRODID:-//WordPress//RSVPMaker//EN
METHOD:REQUEST
BEGIN:VEVENT
DTSTAMP:20260424T091925Z
UID:9C58DA3F0418EBDB53C02615F9AB7282@rsvpmaker.com
SEQUENCE:0
STATUS:CONFIRMED
DTSTART:20250925T160000Z
DTEND:20250925T170000Z
LOCATION:See\: https\://www.uupsbu.org/rsvpmaker/know-your-rights-know
 -your-appointment-type/
SUMMARY:Know Your Rights - Know Your Appointment Type
DESCRIPTION:Event info\: https\://www.uupsbu.org/rsvpmaker/know-your-r
 ights-know-your-appointment-type/
END:VEVENT
END:VCALENDAR