BEGIN:VCALENDAR
VERSION:2.0
CALSCALE:GREGORIAN
PRODID:-//WordPress//RSVPMaker//EN
METHOD:REQUEST
BEGIN:VEVENT
DTSTAMP:20260424T063123Z
UID:1C824BE2BE6AC655657C6BC78527DFD7@rsvpmaker.com
SEQUENCE:0
STATUS:CONFIRMED
DTSTART:20251023T160000Z
DTEND:20251023T170000Z
LOCATION:See\: https\://www.uupsbu.org/rsvpmaker/know-your-rights-perf
 ormance-program-performance-evaluations-getting-to-appointment/
SUMMARY:Know Your Rights - Performance Program, Performance Evaluation
 s, & Getting to Permanent Appointment
DESCRIPTION:Event info\: https\://www.uupsbu.org/rsvpmaker/know-your-r
 ights-performance-program-performance-evaluations-getting-to-appointme
 nt/
END:VEVENT
END:VCALENDAR