BEGIN:VCALENDAR
VERSION:2.0
CALSCALE:GREGORIAN
PRODID:-//WordPress//RSVPMaker//EN
METHOD:REQUEST
BEGIN:VEVENT
DTSTAMP:20260424T033859Z
UID:47841CC9E552BD5C40164DB7073B817B@rsvpmaker.com
SEQUENCE:0
STATUS:CONFIRMED
DTSTART:20251209T170000Z
DTEND:20251209T180000Z
LOCATION:See\: https\://www.uupsbu.org/rsvpmaker/know-your-rights-work
 load/
SUMMARY:Know Your Rights - Workload
DESCRIPTION:Event info\: https\://www.uupsbu.org/rsvpmaker/know-your-r
 ights-workload/
END:VEVENT
END:VCALENDAR