BEGIN:VCALENDAR
VERSION:2.0
CALSCALE:GREGORIAN
PRODID:-//WordPress//RSVPMaker//EN
METHOD:REQUEST
BEGIN:VEVENT
DTSTAMP:20260424T215404Z
UID:EEC96A7F788E88184C0E713456026F3F@rsvpmaker.com
SEQUENCE:0
STATUS:CONFIRMED
DTSTART:20241210T170000Z
DTEND:20241210T180000Z
LOCATION:See\: https\://www.uupsbu.org/rsvpmaker/know-your-rights-work
 shops-getting-to-tenure/
SUMMARY:Know Your Rights Workshops - Getting To Tenure
DESCRIPTION:Event info\: https\://www.uupsbu.org/rsvpmaker/know-your-r
 ights-workshops-getting-to-tenure/
END:VEVENT
END:VCALENDAR