BEGIN:VCALENDAR
VERSION:2.0
CALSCALE:GREGORIAN
PRODID:-//WordPress//RSVPMaker//EN
METHOD:REQUEST
BEGIN:VEVENT
DTSTAMP:20260425T005054Z
UID:915E3742D51CB477268BA29275C3CE09@rsvpmaker.com
SEQUENCE:0
STATUS:CONFIRMED
DTSTART:20241017T160000Z
DTEND:20241017T170000Z
LOCATION:See\: https\://www.uupsbu.org/rsvpmaker/know-your-rights-work
 shops-know-your-appointment-type/
SUMMARY:Know Your Rights Workshops - Know Your Appointment Type
DESCRIPTION:Event info\: https\://www.uupsbu.org/rsvpmaker/know-your-r
 ights-workshops-know-your-appointment-type/
END:VEVENT
END:VCALENDAR