BEGIN:VCALENDAR
VERSION:2.0
CALSCALE:GREGORIAN
PRODID:-//WordPress//RSVPMaker//EN
METHOD:REQUEST
BEGIN:VEVENT
DTSTAMP:20260424T185705Z
UID:44590AA922914066F965AE67BE0222D2@rsvpmaker.com
SEQUENCE:0
STATUS:CONFIRMED
DTSTART:20250206T170000Z
DTEND:20250206T180000Z
LOCATION:See\: https\://www.uupsbu.org/rsvpmaker/know-your-rights-work
 shops-know-your-contract-contract-updates/
SUMMARY:Know Your Rights Workshops - Know Your Contract (Contract Upda
 tes)
DESCRIPTION:Event info\: https\://www.uupsbu.org/rsvpmaker/know-your-r
 ights-workshops-know-your-contract-contract-updates/
END:VEVENT
END:VCALENDAR