BEGIN:VCALENDAR
VERSION:2.0
CALSCALE:GREGORIAN
PRODID:-//WordPress//RSVPMaker//EN
METHOD:REQUEST
BEGIN:VEVENT
DTSTAMP:20260425T023052Z
UID:8D2355364E9A2BA1F82F975414937B43@rsvpmaker.com
SEQUENCE:0
STATUS:CONFIRMED
DTSTART:20240917T160000Z
DTEND:20240917T170000Z
LOCATION:See\: https\://www.uupsbu.org/rsvpmaker/know-your-rights-work
 shops-performance-management-appt-reappt/
SUMMARY:Know Your Rights Workshops - Performance Management Appt/Reap
 pt
DESCRIPTION:Event info\: https\://www.uupsbu.org/rsvpmaker/know-your-r
 ights-workshops-performance-management-appt-reappt/
END:VEVENT
END:VCALENDAR